BEGIN:VCALENDAR
VERSION:2.0
PRODID:-//wp-events-plugin.com//7.2.3.1//EN
TZID:America/New_York
X-WR-TIMEZONE:America/New_York
BEGIN:VEVENT
UID:120@gsastro.org
DTSTART;TZID=America/New_York:20260924T190000
DTEND;TZID=America/New_York:20260924T203000
DTSTAMP:20251106T195318Z
URL:https://www.gsastro.org/events/september-2026-indoor-meeting/
SUMMARY:September 2026 Indoor Meeting
DESCRIPTION:The regularly scheduled indoor meeting of the Grand Strand Astr
 onomers held online.  Please join us for an astronomical related discussio
 n.
LOCATION:https://bit.ly/GSAMonthly
END:VEVENT
BEGIN:VTIMEZONE
TZID:America/New_York
X-LIC-LOCATION:America/New_York
BEGIN:DAYLIGHT
DTSTART:20260308T030000
TZOFFSETFROM:-0500
TZOFFSETTO:-0400
TZNAME:EDT
END:DAYLIGHT
END:VTIMEZONE
END:VCALENDAR